BEGIN:VCALENDAR
VERSION:2.0
PRODID:-//Powder Mountain Snowmobile Club - ECPv6.15.20//NONSGML v1.0//EN
CALSCALE:GREGORIAN
METHOD:PUBLISH
X-ORIGINAL-URL:https://www.powdermountainsnowmobileclub.com
X-WR-CALDESC:Events for Powder Mountain Snowmobile Club
REFRESH-INTERVAL;VALUE=DURATION:PT1H
X-Robots-Tag:noindex
X-PUBLISHED-TTL:PT1H
BEGIN:VTIMEZONE
TZID:America/Vancouver
BEGIN:DAYLIGHT
TZOFFSETFROM:-0800
TZOFFSETTO:-0700
TZNAME:PDT
DTSTART:20220313T100000
END:DAYLIGHT
BEGIN:STANDARD
TZOFFSETFROM:-0700
TZOFFSETTO:-0800
TZNAME:PST
DTSTART:20221106T090000
END:STANDARD
BEGIN:DAYLIGHT
TZOFFSETFROM:-0800
TZOFFSETTO:-0700
TZNAME:PDT
DTSTART:20230312T100000
END:DAYLIGHT
BEGIN:STANDARD
TZOFFSETFROM:-0700
TZOFFSETTO:-0800
TZNAME:PST
DTSTART:20231105T090000
END:STANDARD
BEGIN:DAYLIGHT
TZOFFSETFROM:-0800
TZOFFSETTO:-0700
TZNAME:PDT
DTSTART:20240310T100000
END:DAYLIGHT
BEGIN:STANDARD
TZOFFSETFROM:-0700
TZOFFSETTO:-0800
TZNAME:PST
DTSTART:20241103T090000
END:STANDARD
END:VTIMEZONE
BEGIN:VEVENT
DTSTART;TZID=America/Vancouver:20231120T190000
DTEND;TZID=America/Vancouver:20231120T200000
DTSTAMP:20260419T102514
CREATED:20231121T035439Z
LAST-MODIFIED:20231121T035439Z
UID:840-1700506800-1700510400@www.powdermountainsnowmobileclub.com
SUMMARY:November Club Meeting
DESCRIPTION:Our regular Club meetings have started\, we meet every third Monday of the month at 7pm via Zoom \nPlease join us. An agenda will be distributed to all our contacts later this week. \nIf you have a friend NOT on our email distribution list\, please forward this to them. \nJoin Zoom Meeting \nALL ARE WELCOME
URL:https://www.powdermountainsnowmobileclub.com/event/november-club-meeting/
LOCATION:Online – Zoom
END:VEVENT
END:VCALENDAR